BEGIN:VCALENDAR
VERSION:2.0
PRODID:-//eventon.com NONSGML v1.0//EN
BEGIN:VEVENT
UID:69eba004b2650
DTSTAMP:20260424T125324
DTSTART:20181013T040500Z
DTEND:20181014T035500Z
LOCATION:Laconia Athletic & Swim Club 827 North Main Street\,  Laconia\,  NH
SUMMARY:Runaway Pumpkin 10K & 5K
DESCRIPTION: Runaway Pumpkin 10K & 5K
END:VEVENT
END:VCALENDAR