BEGIN:VCALENDAR
VERSION:2.0
PRODID:-//eventon.com NONSGML v1.0//EN
BEGIN:VEVENT
UID:69e768c0e4302
DTSTAMP:20260421T080832
DTSTART:20260428T220000Z
DTEND:20260429T035000Z
LOCATION:Livingston Park 156 Hooksett Road\,  Manchester\,  NH 03101
SUMMARY:Club Workout: Livingston Park Track
DESCRIPTION: Club Workout: Livingston Park Track
END:VEVENT
END:VCALENDAR