BEGIN:VCALENDAR
VERSION:2.0
PRODID:-//eventon.com NONSGML v1.0//EN
BEGIN:VEVENT
UID:69e768c06bfed
DTSTAMP:20260421T080832
DTSTART:20260421T220000Z
DTEND:20260422T035000Z
LOCATION:Derryfield Park 100 Highland Street\,  Manchester\,  NH 03101
SUMMARY:Club Workout - Derryfield Park
DESCRIPTION: Club Workout - Derryfield Park
END:VEVENT
END:VCALENDAR